BEGIN:VCALENDAR
VERSION:2.0
PRODID:-//Migrant.at - ECPv6.15.18//NONSGML v1.0//EN
CALSCALE:GREGORIAN
METHOD:PUBLISH
X-WR-CALNAME:Migrant.at
X-ORIGINAL-URL:https://www.migrant.at/en/
X-WR-CALDESC:Events for Migrant.at
REFRESH-INTERVAL;VALUE=DURATION:PT1H
X-Robots-Tag:noindex
X-PUBLISHED-TTL:PT1H
BEGIN:VTIMEZONE
TZID:Europe/Berlin
BEGIN:DAYLIGHT
TZOFFSETFROM:+0100
TZOFFSETTO:+0200
TZNAME:CEST
DTSTART:20230326T010000
END:DAYLIGHT
BEGIN:STANDARD
TZOFFSETFROM:+0200
TZOFFSETTO:+0100
TZNAME:CET
DTSTART:20231029T010000
END:STANDARD
BEGIN:DAYLIGHT
TZOFFSETFROM:+0100
TZOFFSETTO:+0200
TZNAME:CEST
DTSTART:20240331T010000
END:DAYLIGHT
BEGIN:STANDARD
TZOFFSETFROM:+0200
TZOFFSETTO:+0100
TZNAME:CET
DTSTART:20241027T010000
END:STANDARD
BEGIN:DAYLIGHT
TZOFFSETFROM:+0100
TZOFFSETTO:+0200
TZNAME:CEST
DTSTART:20250330T010000
END:DAYLIGHT
BEGIN:STANDARD
TZOFFSETFROM:+0200
TZOFFSETTO:+0100
TZNAME:CET
DTSTART:20251026T010000
END:STANDARD
END:VTIMEZONE
BEGIN:VEVENT
DTSTART;TZID=Europe/Berlin:20241114T180000
DTEND;TZID=Europe/Berlin:20241114T200000
DTSTAMP:20260423T034123
CREATED:20241112T123213Z
LAST-MODIFIED:20250923T080436Z
UID:5851-1731607200-1731614400@www.migrant.at
SUMMARY:Information event in Romanian language
DESCRIPTION:Thursday\, November 14\, 2024\nfrom 18:00 to 20:00 \nVenue:\nHoher Markt 8/ 4/ 2nd floor\n1010 Vienna \n 
URL:https://www.migrant.at/en/veranstaltung/romanian-community/
LOCATION:Counseling center for migrants\, Hoher Markt 8/ Staircase 4/ 2nd floor\, 1010 Vienna\, Vienna\, Österreich
CATEGORIES:Events,Migrant (internal)
END:VEVENT
BEGIN:VEVENT
DTSTART;TZID=Europe/Berlin:20241118T093000
DTEND;TZID=Europe/Berlin:20241118T123000
DTSTAMP:20260423T034123
CREATED:20240814T123952Z
LAST-MODIFIED:20250923T080506Z
UID:5560-1731922200-1731933000@www.migrant.at
SUMMARY:Citizenship law
DESCRIPTION:Austrian citizenship can be acquired in various ways and identifies someone as a citizen of the Republic of Austria and at the same time as a citizen of the European Union. The legal basis for this is the Citizenship Act. In this lecture you will learn how to become an Austrian citizen. Here we will give you a general overview of the requirements for acquiring Austrian citizenship.   \nSpeaker: Counseling center for migrants\nDate: Monday\, November 18\, 2024\, from 9:30 a.m. to 12:30 p.m.\nVenue: 15th\, Gasgasse 8-10\, Stiege 1\, 1st floor left\, Amtshaus Rudolfsheim-Fünfhaus\, seminar room of the Department of Integration and Diversity \nExcerpt from original – City of Vienna\, August 14\, 2024
URL:https://www.migrant.at/en/veranstaltung/citizenship-law-2/
LOCATION:Office building Rudolfsheim-Fünfhaus\, Gasgasse 8-10\, Vienna\, 1150\, Österreich
CATEGORIES:Events
ATTACH;FMTTYPE=image/png:https://www.migrant.at/wp-content/uploads/Gasgasse-8-10.png
END:VEVENT
END:VCALENDAR