BEGIN:VCALENDAR
VERSION:2.0
PRODID:-//Migrant.at - ECPv6.15.18//NONSGML v1.0//EN
CALSCALE:GREGORIAN
METHOD:PUBLISH
X-WR-CALNAME:Migrant.at
X-ORIGINAL-URL:https://www.migrant.at/en/
X-WR-CALDESC:Events for Migrant.at
REFRESH-INTERVAL;VALUE=DURATION:PT1H
X-Robots-Tag:noindex
X-PUBLISHED-TTL:PT1H
BEGIN:VTIMEZONE
TZID:Europe/Berlin
BEGIN:DAYLIGHT
TZOFFSETFROM:+0100
TZOFFSETTO:+0200
TZNAME:CEST
DTSTART:20240331T010000
END:DAYLIGHT
BEGIN:STANDARD
TZOFFSETFROM:+0200
TZOFFSETTO:+0100
TZNAME:CET
DTSTART:20241027T010000
END:STANDARD
BEGIN:DAYLIGHT
TZOFFSETFROM:+0100
TZOFFSETTO:+0200
TZNAME:CEST
DTSTART:20250330T010000
END:DAYLIGHT
BEGIN:STANDARD
TZOFFSETFROM:+0200
TZOFFSETTO:+0100
TZNAME:CET
DTSTART:20251026T010000
END:STANDARD
BEGIN:DAYLIGHT
TZOFFSETFROM:+0100
TZOFFSETTO:+0200
TZNAME:CEST
DTSTART:20260329T010000
END:DAYLIGHT
BEGIN:STANDARD
TZOFFSETFROM:+0200
TZOFFSETTO:+0100
TZNAME:CET
DTSTART:20261025T010000
END:STANDARD
END:VTIMEZONE
BEGIN:VEVENT
DTSTART;TZID=Europe/Berlin:20251014T093000
DTEND;TZID=Europe/Berlin:20251014T163000
DTSTAMP:20260422T125452
CREATED:20251015T113130Z
LAST-MODIFIED:20251015T113204Z
UID:7586-1760434200-1760459400@www.migrant.at
SUMMARY:Job fair at the MAK to create prospects
DESCRIPTION:On Tuesday\, the 16th Vienna Job Fair Perspektive took place at the Museum of Applied Arts (MAK). The fair is aimed at Viennese people who find it particularly difficult to find a job.  \n24 social enterprises from Vienna were open to the public at the job fair on Tuesday between 9.30 am and 4.30 pm. The fair is organized by Arbeit plus in cooperation with the AMS Vienna and the Wiener Arbeitnehmer*innen Förderungsfonds (waff). The Ministry of Social Affairs\, the Social Welfare Office (MA 40) and the Vienna Social Fund are also represented.   \nJobseekers should receive advice and support as well as specific job offers in the socio-economic enterprises to enable a good re-entry. The special feature: you can apply for jobs directly on site. There are hundreds of offers from various sectors such as catering\, IT and retail to choose from.   \nUnemployment in Vienna above average\nThe unemployment rate in Vienna is the highest among the federal states. At 11.7 percent\, it is well above the Austrian average of seven percent. The fair is primarily aimed at those Viennese who have been looking for work for some time or for whom special circumstances\, such as health restrictions\, caring responsibilities or a lack of education\, make it difficult to find a job. According to the main organizer Arbeit plus\, it is precisely these people who are a valuable resource for the Viennese job market.    \nOn-site advice and support\nAround half of all unemployed people in Vienna have no further education or vocational training. The aim is to counteract this. In addition to specific job offers\, organizations such as waff and Fonds Soziales Wien offer advice on further training opportunities. Jobseekers are also to be offered prospects through qualification and advisory services.    \n  \nEvent information\nEvent: “Arbeitplus” job fair\nWhen: October 14\, 9:30 a.m. to 4:30 p.m. \nWhere: Weiskirchnerstraße 3\, 1010 Vienna \nExcerpt from Original – Vienna ORF\, October 14\, 2025
URL:https://www.migrant.at/en/veranstaltung/job-fair-at-the-mak-to-create-prospects/
CATEGORIES:Events,External
ATTACH;FMTTYPE=image/jpeg:https://www.migrant.at/wp-content/uploads/Jobmesse-in-MAK.jpeg
END:VEVENT
END:VCALENDAR