BEGIN:VCALENDAR
VERSION:2.0
PRODID:-//Migrant.at - ECPv6.15.18//NONSGML v1.0//EN
CALSCALE:GREGORIAN
METHOD:PUBLISH
X-ORIGINAL-URL:https://www.migrant.at/en/
X-WR-CALDESC:Events for Migrant.at
REFRESH-INTERVAL;VALUE=DURATION:PT1H
X-Robots-Tag:noindex
X-PUBLISHED-TTL:PT1H
BEGIN:VTIMEZONE
TZID:Europe/Berlin
BEGIN:DAYLIGHT
TZOFFSETFROM:+0100
TZOFFSETTO:+0200
TZNAME:CEST
DTSTART:20240331T010000
END:DAYLIGHT
BEGIN:STANDARD
TZOFFSETFROM:+0200
TZOFFSETTO:+0100
TZNAME:CET
DTSTART:20241027T010000
END:STANDARD
BEGIN:DAYLIGHT
TZOFFSETFROM:+0100
TZOFFSETTO:+0200
TZNAME:CEST
DTSTART:20250330T010000
END:DAYLIGHT
BEGIN:STANDARD
TZOFFSETFROM:+0200
TZOFFSETTO:+0100
TZNAME:CET
DTSTART:20251026T010000
END:STANDARD
BEGIN:DAYLIGHT
TZOFFSETFROM:+0100
TZOFFSETTO:+0200
TZNAME:CEST
DTSTART:20260329T010000
END:DAYLIGHT
BEGIN:STANDARD
TZOFFSETFROM:+0200
TZOFFSETTO:+0100
TZNAME:CET
DTSTART:20261025T010000
END:STANDARD
END:VTIMEZONE
BEGIN:VEVENT
DTSTART;TZID=Europe/Berlin:20250410T183000
DTEND;TZID=Europe/Berlin:20250410T203000
DTSTAMP:20260422T222343
CREATED:20250325T084709Z
LAST-MODIFIED:20250923T080141Z
UID:6481-1744309800-1744317000@www.migrant.at
SUMMARY:Everyday life of the Greeks in Vienna
DESCRIPTION:Date: Thursday\, April 10\, 2025\nTime: 18:30 to 20:30\nLocation: Counselling center for migrants labor market policy support facility Hoher Markt 8 / 4 / 2nd floor\, 1010 Vienna
URL:https://www.migrant.at/en/veranstaltung/everyday-life-of-the-greeks-in-vienna/
LOCATION:Counseling center for migrants\, Hoher Markt 8/ Staircase 4/ 2nd floor\, 1010 Vienna\, Vienna\, Österreich
CATEGORIES:Events
ATTACH;FMTTYPE=image/jpeg:https://www.migrant.at/wp-content/uploads/250325-griechische-Veranstaltung-DE-scaled.jpeg
END:VEVENT
END:VCALENDAR