BEGIN:VCALENDAR
VERSION:2.0
PRODID:-//Migrant.at - ECPv6.15.18//NONSGML v1.0//EN
CALSCALE:GREGORIAN
METHOD:PUBLISH
X-WR-CALNAME:Migrant.at
X-ORIGINAL-URL:https://www.migrant.at/en/
X-WR-CALDESC:Events for Migrant.at
REFRESH-INTERVAL;VALUE=DURATION:PT1H
X-Robots-Tag:noindex
X-PUBLISHED-TTL:PT1H
BEGIN:VTIMEZONE
TZID:Europe/Berlin
BEGIN:DAYLIGHT
TZOFFSETFROM:+0100
TZOFFSETTO:+0200
TZNAME:CEST
DTSTART:20240331T010000
END:DAYLIGHT
BEGIN:STANDARD
TZOFFSETFROM:+0200
TZOFFSETTO:+0100
TZNAME:CET
DTSTART:20241027T010000
END:STANDARD
BEGIN:DAYLIGHT
TZOFFSETFROM:+0100
TZOFFSETTO:+0200
TZNAME:CEST
DTSTART:20250330T010000
END:DAYLIGHT
BEGIN:STANDARD
TZOFFSETFROM:+0200
TZOFFSETTO:+0100
TZNAME:CET
DTSTART:20251026T010000
END:STANDARD
BEGIN:DAYLIGHT
TZOFFSETFROM:+0100
TZOFFSETTO:+0200
TZNAME:CEST
DTSTART:20260329T010000
END:DAYLIGHT
BEGIN:STANDARD
TZOFFSETFROM:+0200
TZOFFSETTO:+0100
TZNAME:CET
DTSTART:20261025T010000
END:STANDARD
END:VTIMEZONE
BEGIN:VEVENT
DTSTART;TZID=Europe/Berlin:20250403T093000
DTEND;TZID=Europe/Berlin:20250403T123000
DTSTAMP:20260422T182914
CREATED:20250311T073227Z
LAST-MODIFIED:20250923T080202Z
UID:6447-1743672600-1743683400@www.migrant.at
SUMMARY:Citizenship law
DESCRIPTION:Citizenship law \nAustrian citizenship can be acquired in various ways and identifies someone as a citizen of the Republic of Austria and at the same time as a citizen of the European Union. The legal basis for this is the Citizenship Act. In this lecture you will learn how to become an Austrian. We will provide a general overview of the requirements for acquiring Austrian citizenship.   \nDate: Thursday\, April 3\, 2025\, from 9:30 a.m. to 12:30 p.m.\nSpeaker: Maryam Singh (Counseling Center for Migrants)\nRegistration: online \nExcerpt from Original – City of Vienna\, March 11\, 2025
URL:https://www.migrant.at/en/veranstaltung/citizenship-law-3/
LOCATION:Office building Rudolfsheim-Fünfhaus\, Gasgasse 8-10\, Vienna\, 1150\, Österreich
CATEGORIES:Events
ORGANIZER;CN="MA 17":MAILTO:anmeldungen@ma17.wien.gv.at
END:VEVENT
END:VCALENDAR