BEGIN:VCALENDAR
VERSION:2.0
PRODID:-//Migrant.at - ECPv6.15.18//NONSGML v1.0//EN
CALSCALE:GREGORIAN
METHOD:PUBLISH
X-WR-CALNAME:Migrant.at
X-ORIGINAL-URL:https://www.migrant.at/en/
X-WR-CALDESC:Events for Migrant.at
REFRESH-INTERVAL;VALUE=DURATION:PT1H
X-Robots-Tag:noindex
X-PUBLISHED-TTL:PT1H
BEGIN:VTIMEZONE
TZID:Europe/Berlin
BEGIN:DAYLIGHT
TZOFFSETFROM:+0100
TZOFFSETTO:+0200
TZNAME:CEST
DTSTART:20240331T010000
END:DAYLIGHT
BEGIN:STANDARD
TZOFFSETFROM:+0200
TZOFFSETTO:+0100
TZNAME:CET
DTSTART:20241027T010000
END:STANDARD
BEGIN:DAYLIGHT
TZOFFSETFROM:+0100
TZOFFSETTO:+0200
TZNAME:CEST
DTSTART:20250330T010000
END:DAYLIGHT
BEGIN:STANDARD
TZOFFSETFROM:+0200
TZOFFSETTO:+0100
TZNAME:CET
DTSTART:20251026T010000
END:STANDARD
BEGIN:DAYLIGHT
TZOFFSETFROM:+0100
TZOFFSETTO:+0200
TZNAME:CEST
DTSTART:20260329T010000
END:DAYLIGHT
BEGIN:STANDARD
TZOFFSETFROM:+0200
TZOFFSETTO:+0100
TZNAME:CET
DTSTART:20261025T010000
END:STANDARD
END:VTIMEZONE
BEGIN:VEVENT
DTSTART;TZID=Europe/Berlin:20250310T120000
DTEND;TZID=Europe/Berlin:20250310T140000
DTSTAMP:20260422T220011
CREATED:20250307T104351Z
LAST-MODIFIED:20250923T080319Z
UID:6443-1741608000-1741615200@www.migrant.at
SUMMARY:Democracy gap - Is our citizenship law still up to date?
DESCRIPTION:When we talk about democracy\, many people first think of the right to vote. This is linked to Austrian citizenship and thus leads to a worrying democratic gap in a diverse and international metropolis like Vienna. Currently\, 29% of Viennese employees and 68% of Viennese workers do not have Austrian citizenship and therefore do not have the right to vote.   \nThe young generation is particularly affected\, which means that the democratic deficit is increasing from year to year. The experience of not having the right to a political say leaves deep scars on people’s sense of belonging and identification with Austria.  \nExperts on citizenship law and naturalization will discuss the extent of political exclusion and what changes are needed for genuine representation and fairer access to Austrian citizenship. \nJoin the discussion and share your experiences\, observations and ideas for solutions with us! \nWhere: FAKTory Universitätsstraße 9\, 1010 Vienna \nAn event of the series “Reden über Demokratie” of the AK Vienna. Further dates:  \nApril 10\, 2025. 6.00 p.m.: Participation & Exclusion – How representative is our parliament?\nMay 14\, 2025\, 12.00 p.m.: Democracy 4.0 – Participation in the 21st century\n4. June 2025\, 12.00 noon: Young Voices: Old democracy and young people?  \nContributors: \nAmela Bousaki\n… is Chairwoman of the Works Council at Caritas Vienna. \nFranjo Markovic\n… is a consultant in the Labor Market and Integration Department of the Vienna Chamber of Labor with a focus on migration and integration policy. \nMaryam Singh\n… works at the City of Vienna’s advice center for migrants and runs the initial information events on acquiring Austrian citizenship. She is a lecturer for Asylum & Migration at FH Campus Wien.  \nModeration: Mara Verlic\nMunicipal Policy and Housing Department\, AK Vienna \n  \nExcerpt from original – AK-Vienna\, March 7\, 2025
URL:https://www.migrant.at/en/veranstaltung/democracy-gap-is-our-citizenship-law-still-up-to-date/
CATEGORIES:Events
END:VEVENT
END:VCALENDAR