BEGIN:VCALENDAR
VERSION:2.0
PRODID:-//Migrant.at - ECPv6.15.18//NONSGML v1.0//EN
CALSCALE:GREGORIAN
METHOD:PUBLISH
X-WR-CALNAME:Migrant.at
X-ORIGINAL-URL:https://www.migrant.at/en/
X-WR-CALDESC:Events for Migrant.at
REFRESH-INTERVAL;VALUE=DURATION:PT1H
X-Robots-Tag:noindex
X-PUBLISHED-TTL:PT1H
BEGIN:VTIMEZONE
TZID:Europe/Berlin
BEGIN:DAYLIGHT
TZOFFSETFROM:+0100
TZOFFSETTO:+0200
TZNAME:CEST
DTSTART:20230326T010000
END:DAYLIGHT
BEGIN:STANDARD
TZOFFSETFROM:+0200
TZOFFSETTO:+0100
TZNAME:CET
DTSTART:20231029T010000
END:STANDARD
BEGIN:DAYLIGHT
TZOFFSETFROM:+0100
TZOFFSETTO:+0200
TZNAME:CEST
DTSTART:20240331T010000
END:DAYLIGHT
BEGIN:STANDARD
TZOFFSETFROM:+0200
TZOFFSETTO:+0100
TZNAME:CET
DTSTART:20241027T010000
END:STANDARD
BEGIN:DAYLIGHT
TZOFFSETFROM:+0100
TZOFFSETTO:+0200
TZNAME:CEST
DTSTART:20250330T010000
END:DAYLIGHT
BEGIN:STANDARD
TZOFFSETFROM:+0200
TZOFFSETTO:+0100
TZNAME:CET
DTSTART:20251026T010000
END:STANDARD
END:VTIMEZONE
BEGIN:VEVENT
DTSTART;TZID=Europe/Berlin:20241024T093000
DTEND;TZID=Europe/Berlin:20241024T123000
DTSTAMP:20260423T112117
CREATED:20240814T123605Z
LAST-MODIFIED:20250923T080456Z
UID:5554-1729762200-1729773000@www.migrant.at
SUMMARY:Family reunification
DESCRIPTION:Under what conditions may family members of third-country nationals (persons who are neither EEA citizens nor Swiss nationals) stay and work in Austria for longer than 6 months? In this presentation\, you will learn more about the relevant legal regulations for foreigners with case studies. \nSpeakers: Maryam Singh\, Veli Cayci (Counseling Center for Migrants)\nDate: Thursday\, October 24\, 2024\, from 9.30 a.m. to 12.30 p.m.\nVenue: 15th\, Gasgasse 8-10\, Stiege 1\, 1st floor left\, Amtshaus Rudolfsheim-Fünfhaus\, seminar room of the Department of Integration and Diversity \nExcerpt from original – City of Vienna\, August 14\, 2024
URL:https://www.migrant.at/en/veranstaltung/family-reunification/
LOCATION:Office building Rudolfsheim-Fünfhaus\, Gasgasse 8-10\, Vienna\, 1150\, Österreich
CATEGORIES:Events
ATTACH;FMTTYPE=image/png:https://www.migrant.at/wp-content/uploads/Gasgasse-8-10.png
END:VEVENT
END:VCALENDAR