BEGIN:VCALENDAR
VERSION:2.0
PRODID:-//Migrant.at - ECPv6.15.18//NONSGML v1.0//EN
CALSCALE:GREGORIAN
METHOD:PUBLISH
X-WR-CALNAME:Migrant.at
X-ORIGINAL-URL:https://www.migrant.at/en/
X-WR-CALDESC:Events for Migrant.at
REFRESH-INTERVAL;VALUE=DURATION:PT1H
X-Robots-Tag:noindex
X-PUBLISHED-TTL:PT1H
BEGIN:VTIMEZONE
TZID:Europe/Berlin
BEGIN:DAYLIGHT
TZOFFSETFROM:+0100
TZOFFSETTO:+0200
TZNAME:CEST
DTSTART:20230326T010000
END:DAYLIGHT
BEGIN:STANDARD
TZOFFSETFROM:+0200
TZOFFSETTO:+0100
TZNAME:CET
DTSTART:20231029T010000
END:STANDARD
BEGIN:DAYLIGHT
TZOFFSETFROM:+0100
TZOFFSETTO:+0200
TZNAME:CEST
DTSTART:20240331T010000
END:DAYLIGHT
BEGIN:STANDARD
TZOFFSETFROM:+0200
TZOFFSETTO:+0100
TZNAME:CET
DTSTART:20241027T010000
END:STANDARD
BEGIN:DAYLIGHT
TZOFFSETFROM:+0100
TZOFFSETTO:+0200
TZNAME:CEST
DTSTART:20250330T010000
END:DAYLIGHT
BEGIN:STANDARD
TZOFFSETFROM:+0200
TZOFFSETTO:+0100
TZNAME:CET
DTSTART:20251026T010000
END:STANDARD
END:VTIMEZONE
BEGIN:VEVENT
DTSTART;TZID=Europe/Berlin:20241017T180000
DTEND;TZID=Europe/Berlin:20241017T200000
DTSTAMP:20260423T112117
CREATED:20241009T110326Z
LAST-MODIFIED:20250923T080447Z
UID:5780-1729188000-1729195200@www.migrant.at
SUMMARY:Information event in Greek language
DESCRIPTION:Information event in Greek for Greeks living in Vienna:\n\nThursday\, October 17\, 2024\nfrom 18:00 to 20:00 \nVenue:\nHoher Markt 8/ 4/ 2nd floor\n1010 Vienna \n 
URL:https://www.migrant.at/en/veranstaltung/information-event-in-greek-language/
LOCATION:Counseling center for migrants\, Hoher Markt 8/ Staircase 4/ 2nd floor\, 1010 Vienna\, Vienna\, Österreich
CATEGORIES:Events,Migrant (internal)
END:VEVENT
END:VCALENDAR