BEGIN:VCALENDAR
VERSION:2.0
PRODID:-//Migrant.at - ECPv6.15.18//NONSGML v1.0//EN
CALSCALE:GREGORIAN
METHOD:PUBLISH
X-WR-CALNAME:Migrant.at
X-ORIGINAL-URL:https://www.migrant.at/en/
X-WR-CALDESC:Events for Migrant.at
REFRESH-INTERVAL;VALUE=DURATION:PT1H
X-Robots-Tag:noindex
X-PUBLISHED-TTL:PT1H
BEGIN:VTIMEZONE
TZID:Europe/Berlin
BEGIN:DAYLIGHT
TZOFFSETFROM:+0100
TZOFFSETTO:+0200
TZNAME:CEST
DTSTART:20230326T010000
END:DAYLIGHT
BEGIN:STANDARD
TZOFFSETFROM:+0200
TZOFFSETTO:+0100
TZNAME:CET
DTSTART:20231029T010000
END:STANDARD
BEGIN:DAYLIGHT
TZOFFSETFROM:+0100
TZOFFSETTO:+0200
TZNAME:CEST
DTSTART:20240331T010000
END:DAYLIGHT
BEGIN:STANDARD
TZOFFSETFROM:+0200
TZOFFSETTO:+0100
TZNAME:CET
DTSTART:20241027T010000
END:STANDARD
BEGIN:DAYLIGHT
TZOFFSETFROM:+0100
TZOFFSETTO:+0200
TZNAME:CEST
DTSTART:20250330T010000
END:DAYLIGHT
BEGIN:STANDARD
TZOFFSETFROM:+0200
TZOFFSETTO:+0100
TZNAME:CET
DTSTART:20251026T010000
END:STANDARD
END:VTIMEZONE
BEGIN:VEVENT
DTSTART;TZID=Europe/Berlin:20241009T093000
DTEND;TZID=Europe/Berlin:20241009T123000
DTSTAMP:20260423T112142
CREATED:20240814T122810Z
LAST-MODIFIED:20250923T080527Z
UID:5556-1728466200-1728477000@www.migrant.at
SUMMARY:Migration. Woman. Family violence. - a search
DESCRIPTION:Migration is feminine. Hardly any population group faces more problems than women with a migration background. This is particularly the case with family problems and violence in the family. Strict provisions in residence law\, a lack of educational and employment opportunities and economic inequality are major obstacles for women with a migrant background. This makes it difficult for them to free themselves from violent relationships. This presentation will discuss and analyze the areas of residence\, the labor market and work-life balance. This knowledge should show ways to free oneself from dependencies and stop violence. Because: Migrant women must not be allowed to slip into isolation. \nLecturer: Angela Ivezic (Counseling Center for Migrants)\nDate: Wednesday\, October 9\, 2024\, from 9:30 a.m. to 12:30 p.m.\nVenue: 15th\, Gasgasse 8-10\, Stiege 1\, 1st floor left\, Amtshaus Rudolfsheim-Fünfhaus\, seminar room of the Department of Integration and Diversity \nExcerpt from original – City of Vienna\, August 14\, 2024
URL:https://www.migrant.at/en/veranstaltung/migration-woman-family-violence-a-search-3/
LOCATION:Office building Rudolfsheim-Fünfhaus\, Gasgasse 8-10\, Vienna\, 1150\, Österreich
CATEGORIES:Events
ATTACH;FMTTYPE=image/png:https://www.migrant.at/wp-content/uploads/Gasgasse-8-10.png
END:VEVENT
END:VCALENDAR