BEGIN:VCALENDAR
VERSION:2.0
PRODID:-//Migrant.at - ECPv6.15.18//NONSGML v1.0//EN
CALSCALE:GREGORIAN
METHOD:PUBLISH
X-WR-CALNAME:Migrant.at
X-ORIGINAL-URL:https://www.migrant.at
X-WR-CALDESC:Veranstaltungen für Migrant.at
REFRESH-INTERVAL;VALUE=DURATION:PT1H
X-Robots-Tag:noindex
X-PUBLISHED-TTL:PT1H
BEGIN:VTIMEZONE
TZID:Europe/Berlin
BEGIN:DAYLIGHT
TZOFFSETFROM:+0100
TZOFFSETTO:+0200
TZNAME:CEST
DTSTART:20250330T010000
END:DAYLIGHT
BEGIN:STANDARD
TZOFFSETFROM:+0200
TZOFFSETTO:+0100
TZNAME:CET
DTSTART:20251026T010000
END:STANDARD
BEGIN:DAYLIGHT
TZOFFSETFROM:+0100
TZOFFSETTO:+0200
TZNAME:CEST
DTSTART:20260329T010000
END:DAYLIGHT
BEGIN:STANDARD
TZOFFSETFROM:+0200
TZOFFSETTO:+0100
TZNAME:CET
DTSTART:20261025T010000
END:STANDARD
BEGIN:DAYLIGHT
TZOFFSETFROM:+0100
TZOFFSETTO:+0200
TZNAME:CEST
DTSTART:20270328T010000
END:DAYLIGHT
BEGIN:STANDARD
TZOFFSETFROM:+0200
TZOFFSETTO:+0100
TZNAME:CET
DTSTART:20271031T010000
END:STANDARD
END:VTIMEZONE
BEGIN:VEVENT
DTSTART;TZID=Europe/Berlin:20260602T090000
DTEND;TZID=Europe/Berlin:20260602T120000
DTSTAMP:20260421T155701
CREATED:20260420T104739Z
LAST-MODIFIED:20260420T111215Z
UID:8520-1780390800-1780401600@www.migrant.at
SUMMARY:Umstieg ins Niederlassungs- und Aufenthaltsgesetz (NAG)
DESCRIPTION:Der Umstieg in das Niederlassungs- und Aufenthaltsgesetz (NAG) stellt für viele Menschen einen wichtigen nächsten Schritt in ihrem Leben in Österreich dar. In diesem Vortrag geben wir einen verständlichen Überblick über die rechtlichen Voraussetzungen\, Fristen und notwendigen Schritte. \nZiel ist es\, Orientierung in einem oft komplexen System zu schaffen und typische Fragen sowie Unsicherheiten aufzugreifen\, die viele Betroffene im Verfahren beschäftigen. \n\n📅 Termin: Dienstag\, 2. Juni 2026\, 9:00–12:00 Uhr\n📍 Ort: Wien\, Amtshaus Rudolfsheim-Fünfhaus\n👩 Vortragende: Maryam Singh\, Rafat Abutalib\n📝 Anmeldung: https://ticket.wien.gv.at/M17/yjtxd\n\nWeitere Informationen auch zur Vortragsreihe Wien.Vielfalt.Wissen 2026 unter https://www.wien.gv.at/zusammenleben/integration
URL:https://www.migrant.at/veranstaltung/umstieg-niederlassung-aufenthaltsgesetz/
CATEGORIES:Extern,Veranstaltungen
ATTACH;FMTTYPE=image/webp:https://www.migrant.at/wp-content/uploads/VeranstaltungsBild-Wien-Vielfalt-Wissen-2026-1.webp
END:VEVENT
END:VCALENDAR