BEGIN:VCALENDAR
VERSION:2.0
PRODID:-//Migrant.at - ECPv6.15.18//NONSGML v1.0//EN
CALSCALE:GREGORIAN
METHOD:PUBLISH
X-WR-CALNAME:Migrant.at
X-ORIGINAL-URL:https://www.migrant.at
X-WR-CALDESC:Veranstaltungen für Migrant.at
REFRESH-INTERVAL;VALUE=DURATION:PT1H
X-Robots-Tag:noindex
X-PUBLISHED-TTL:PT1H
BEGIN:VTIMEZONE
TZID:Europe/Berlin
BEGIN:DAYLIGHT
TZOFFSETFROM:+0100
TZOFFSETTO:+0200
TZNAME:CEST
DTSTART:20230326T010000
END:DAYLIGHT
BEGIN:STANDARD
TZOFFSETFROM:+0200
TZOFFSETTO:+0100
TZNAME:CET
DTSTART:20231029T010000
END:STANDARD
BEGIN:DAYLIGHT
TZOFFSETFROM:+0100
TZOFFSETTO:+0200
TZNAME:CEST
DTSTART:20240331T010000
END:DAYLIGHT
BEGIN:STANDARD
TZOFFSETFROM:+0200
TZOFFSETTO:+0100
TZNAME:CET
DTSTART:20241027T010000
END:STANDARD
BEGIN:DAYLIGHT
TZOFFSETFROM:+0100
TZOFFSETTO:+0200
TZNAME:CEST
DTSTART:20250330T010000
END:DAYLIGHT
BEGIN:STANDARD
TZOFFSETFROM:+0200
TZOFFSETTO:+0100
TZNAME:CET
DTSTART:20251026T010000
END:STANDARD
END:VTIMEZONE
BEGIN:VEVENT
DTSTART;VALUE=DATE:20240923
DTEND;VALUE=DATE:20240930
DTSTAMP:20260421T130612
CREATED:20240930T070034Z
LAST-MODIFIED:20240930T072304Z
UID:5679-1727049600-1727654399@www.migrant.at
SUMMARY:ICDO’s Long Nights of Interculturality 2024
DESCRIPTION:ICDO organisiert vom 23. bis 29. September 2024 die 7. Ausgabe der „Langen Nächte der Interkulturalität“\, eine der größten Kulturveranstaltungen in Wien\, Österreich. \nEin Fest der Vielfalt\, Inklusion und gemeinsamen Menschlichkeit\nBegleiten Sie uns auf einer unvergesslichen Reise ins Herz des interkulturellen Austauschs. Die Langen Nächte der Interkulturalität sind mehr als nur eine Veranstaltung – es ist eine Bewegung\, die den Reichtum unserer globalen Gemeinschaft feiert und Verständnis\, Verbindung und Zusammenarbeit zwischen Kulturen fördert. Bei den spektakulären Live-Events in den prominentesten Veranstaltungsorten in Wien\, Österreich\, werden wir gemeinsam #SafeguardingDiversity unterstützen! \nWas Sie erwartet\nKulturelle Darbietungen: Tauchen Sie ein in lebendige Darbietungen\, traditionelle Musik\, Tanz und Geschichtenerzählen aus verschiedenen Kulturen der ganzen Welt. Jeder Abend ist ein einzigartiges Erlebnis\, bei dem die Schönheit und Tiefe globaler Traditionen gefeiert wird.\nAnregende Diskussionen: Nehmen Sie an sinnvollen Dialogen mit Vordenkern\, Aktivisten und Community-Mitgliedern zu Themen wie kulturellem Erbe\, Migration und sozialer Inklusion teil. Diese Diskussionen sollen neue Perspektiven inspirieren und ein tieferes Verständnis unserer gemeinsamen Herausforderungen und Chancen fördern.\nKunstausstellungen und Dokumentationen: Erleben Sie faszinierende Kunstausstellungen und Dokumentationen\, die unterschiedliche Perspektiven und Geschichten aus der ganzen Welt präsentieren. Diese kuratierten Ausstellungen und Filme bieten Einblicke in die künstlerischen Ausdrucksformen und Lebenserfahrungen von Kulturen weltweit.\nWarum teilnehmen?\nDie Langen Nächte der Interkulturalität sind eine Plattform\, auf der Kulturen zusammenkommen\, Verbindungen geknüpft und Brücken gebaut werden. Durch Ihre Teilnahme tragen Sie zu einer integrativeren\, harmonischeren Welt bei – einer Welt\, die Vielfalt schätzt und gegenseitigen Respekt fördert. \nEgal\, ob Sie Kulturliebhaber\, neugieriger Lerner oder jemand sind\, der etwas Positives bewirken möchte\, diese Veranstaltung bietet für jeden etwas. Kommen Sie mit offenem Herzen und gehen Sie mit unvergesslichen Erinnerungen. \nBegleiten Sie uns\nTragen Sie es in Ihren Kalender ein und seien Sie Teil dieser transformativen Erfahrung. Lassen Sie uns gemeinsam unsere Unterschiede feiern\, unsere Gemeinsamkeiten annehmen und den Weg für eine stärker vernetzte Welt ebnen. \nPodiumsdiskussion: „Stimmen für die Zukunft: Gender Nexus und Inklusion im Klimaschutz auf der COP 29“\nMontag\, 23. September 2024 \nCostumes of the World – Buchveröffentlichung\nDienstag\, 24. September 2024 \nKunstausstellung: „Kulturelle Vielfalt & Inklusion“\nMittwoch\, 25. September 2024 \nICDO’s Costumes of the World Show – Rathaus Festsaal\nFreitag\, 27. September 2024 \nDokumentationen und Kurzfilme: „Vielfalt auf der ganzen Welt“\nSonntag\, 29. September 2024 \nAuszug aus Original – ICDO’s Long Nights of Interculturality 2024\, 30. September 2024
URL:https://www.migrant.at/veranstaltung/icdos-long-nights-of-interculturality-2024/
END:VEVENT
BEGIN:VEVENT
DTSTART;TZID=Europe/Berlin:20240925T093000
DTEND;TZID=Europe/Berlin:20240925T163000
DTSTAMP:20260421T130612
CREATED:20240925T104339Z
LAST-MODIFIED:20240925T105001Z
UID:5563-1727256600-1727281800@www.migrant.at
SUMMARY:Mediengespräch und Rundgang Jobmesse PERSPEKTIVE 2024
DESCRIPTION:Angebote für Arbeitsuchende fördern? Gerade jetzt unverzichtbar! Soziale Unternehmen sichern Arbeitskräfte für die Zukunft\nWien (OTS) – Ihre Gesprächspartner*innen: \n\nWinfried Göschl\, Geschäftsführer AMS Wien\nYvonne Rychly\, Landtagsabgeordnete und stv. Vorstandsvorsitzende des waff\nSwantje Meyer-Lange\, Vorsitzende arbeit plus Wien\n\nTermin: Mittwoch\, 25. September 2024\, 09:30 Uhr bis 16:30 Uhr MAK\, Eingang Weiskirchnerstraße 3\, 1010 Wien \nIm Anschluss an das Mediengespräch gemeinsamer Besuch der Messestände und Möglichkeit zu individuellen Interviews. Auf der Messe können (langzeit-)beschäftigungslose Menschen die Wiener Sozialen Unternehmen kennenlernen und sich direkt bewerben. Veranstalter der Jobmesse ist arbeit plus Wien in Kooperation mit AMS Wien und waff. \narbeit plus. Dachverband – Soziale Unternehmen Wien\nDer Dachverband vertritt seit 2001 Wiener Organisationen\, die langzeitbeschäftigungslose Menschen beraten\, qualifizieren und beschäftigen. Die Interessenvertretung repräsentiert knapp 60 Betriebe und Beratungseinrichtungen\, hinter denen 30 Trägerorganisationen stehen. \nRückfragen & Kontakt:\nMag.a Eva Schober\, Öffentlichkeitsarbeit & PR\nTaborstraße 24/18\, 1020 Wien; www.arbeitplus-wien.at\nTel. 01-720 38 80-15; 0664 811 92 02;\nMail: e.schober@arbeitplus-wien.at \nOTS-ORIGINALTEXT PRESSEAUSSENDUNG UNTER AUSSCHLIESSLICHER INHALTLICHER VERANTWORTUNG DES AUSSENDERS
URL:https://www.migrant.at/veranstaltung/mediengespraech-und-rundgang-jobmesse-perspektive-2024/
LOCATION:MAK\, Weiskirchnerstraße 3\, MAK\, Eingang\, Wien\, 1010\, Österreich
END:VEVENT
END:VCALENDAR