BEGIN:VCALENDAR
VERSION:2.0
PRODID:-//Migrant.at - ECPv6.15.18//NONSGML v1.0//EN
CALSCALE:GREGORIAN
METHOD:PUBLISH
X-ORIGINAL-URL:https://www.migrant.at
X-WR-CALDESC:Veranstaltungen für Migrant.at
REFRESH-INTERVAL;VALUE=DURATION:PT1H
X-Robots-Tag:noindex
X-PUBLISHED-TTL:PT1H
BEGIN:VTIMEZONE
TZID:Europe/Berlin
BEGIN:DAYLIGHT
TZOFFSETFROM:+0100
TZOFFSETTO:+0200
TZNAME:CEST
DTSTART:20230326T010000
END:DAYLIGHT
BEGIN:STANDARD
TZOFFSETFROM:+0200
TZOFFSETTO:+0100
TZNAME:CET
DTSTART:20231029T010000
END:STANDARD
BEGIN:DAYLIGHT
TZOFFSETFROM:+0100
TZOFFSETTO:+0200
TZNAME:CEST
DTSTART:20240331T010000
END:DAYLIGHT
BEGIN:STANDARD
TZOFFSETFROM:+0200
TZOFFSETTO:+0100
TZNAME:CET
DTSTART:20241027T010000
END:STANDARD
BEGIN:DAYLIGHT
TZOFFSETFROM:+0100
TZOFFSETTO:+0200
TZNAME:CEST
DTSTART:20250330T010000
END:DAYLIGHT
BEGIN:STANDARD
TZOFFSETFROM:+0200
TZOFFSETTO:+0100
TZNAME:CET
DTSTART:20251026T010000
END:STANDARD
END:VTIMEZONE
BEGIN:VEVENT
DTSTART;TZID=Europe/Berlin:20240522T150000
DTEND;TZID=Europe/Berlin:20240522T170000
DTSTAMP:20260421T131812
CREATED:20240515T110141Z
LAST-MODIFIED:20240516T071629Z
UID:5122-1716390000-1716397200@www.migrant.at
SUMMARY:Orientierungshilfe & Einführung für Neuankömmlinge in Österreich - kurdisch
DESCRIPTION:Welche Rechte und Pflichten habe ich und welche rechtlichen Aspekte muss ich beachten\, um in Österreich gut anzukommen? \nTermin:\n22. Mai 2024 von 15:00 Uhr bis 17:00 Uhr \nAdresse:\nHoher Markt 8/ 4/ 2\n1010 Wien \nOrganisiert von:\nBeratungszentrum für Migranten und Migrantinnen \n  \nDer Infoabend wird in kurdischer Sprache abgehalten.\nAnmeldung ist unbedingt notwendig unter migrant@migrant.at \n\n© ALPHA plus
URL:https://www.migrant.at/veranstaltung/orientierungshilfe-einfuehrung-fuer-neuankoemmlinge-in-oesterreich-kurdisch/
LOCATION:Beratungszentrum für Migranten und Migrantinnen\, Hoher Markt 8/ Stiege 4/ 2. Stock\, 1010 Wien\, Österreich
ATTACH;FMTTYPE=image/jpeg:https://www.migrant.at/wp-content/uploads/Freepik-e1715841324443.jpg
END:VEVENT
BEGIN:VEVENT
DTSTART;TZID=Europe/Berlin:20240523T173000
DTEND;TZID=Europe/Berlin:20240523T193000
DTSTAMP:20260421T131812
CREATED:20240524T102001Z
LAST-MODIFIED:20240524T102231Z
UID:5217-1716485400-1716492600@www.migrant.at
SUMMARY:Dein Wien. Deine Stadt
DESCRIPTION:Partizipation.Dialog.Begegnung auf Augenhöhe \nThema: 60 Jahre Migration: Gestern-Heute-Zukunft \nWann: Donnerstag\, 23. Mai 2024\, 17:30 bis 19:30 Uhr \nWo: Amtshaus Favoriten / Keplerplatz 5\, 10. Bezirk \nIhre Meinung zählt! Reden Sie mit! \nÖsterreich blickt auf über 60 Jahre Migrationsgeschichte in der Zweiten Republik zurück. Von der ursprünglichen Annahme\, dass Zugewanderte lediglich „Gäste“ sind\, die nur ein paar Jahre bleiben und \ndann wieder in ihre Herkunftsländer zurückkehren\, ist heute keine Rede mehr. \n\nÖsterreich ist ein Einwanderungsland und Wien ist dafür das beste Beispiel.\nRund 44 % der Wiener*innen haben eine ausländische Herkunft\, d. h. sie haben entweder eine ausländische Staatsangehörigkeit oder ein ausländisches Geburtsland.\nRund die Hälfte der Wiener*innen hat Migrationshintergrund\, d. h. (in der Statistik) ihre beiden Elternteile wurden im Ausland geboren.\n\nMehr Informationen über Integration und Diversität
URL:https://www.migrant.at/veranstaltung/dein-wien-deine-stadt/
LOCATION:Amtshaus Favoriten\, Keplerplatz 5\, Amtshaus Favoriten\, Festsaal\, Wien\, 1100\, Österreich
ATTACH;FMTTYPE=image/jpeg:https://www.migrant.at/wp-content/uploads/Dein-Wien.-Deine-Stadt.jpg
END:VEVENT
BEGIN:VEVENT
DTSTART;TZID=Europe/Berlin:20240530T170000
DTEND;TZID=Europe/Berlin:20240530T190000
DTSTAMP:20260421T131812
CREATED:20240515T110820Z
LAST-MODIFIED:20240516T071744Z
UID:5128-1717088400-1717095600@www.migrant.at
SUMMARY:Orientierungshilfe & Einführung für Neuankömmlinge in Österreich – rumänisch
DESCRIPTION:Welche Rechte und Pflichten habe ich und welche rechtlichen Aspekte muss ich beachten\, um in Österreich gut anzukommen? \nTermin:\n30. Mai 2024 von 17:00 Uhr bis 19:00 Uhr \nAdresse:\nHoher Markt 8/ 4/ 2\n1010 Wien \nOrganisiert von:\nBeratungszentrum für Migranten und Migrantinnen \n  \nDer Infoabend wird in rumänischer Sprache abgehalten.\nAnmeldung ist unbedingt notwendig unter migrant@migrant.at \n\n© ALPHA plus
URL:https://www.migrant.at/veranstaltung/orientierungshilfe-einfuehrung-fuer-neuankoemmlinge-in-oesterreich-rumaenisch/
LOCATION:Beratungszentrum für Migranten und Migrantinnen\, Hoher Markt 8/ Stiege 4/ 2. Stock\, 1010 Wien\, Österreich
ATTACH;FMTTYPE=image/jpeg:https://www.migrant.at/wp-content/uploads/Freepik-e1715841324443.jpg
END:VEVENT
END:VCALENDAR