BEGIN:VCALENDAR
VERSION:2.0
PRODID:-//Migrant.at - ECPv6.15.18//NONSGML v1.0//EN
CALSCALE:GREGORIAN
METHOD:PUBLISH
X-ORIGINAL-URL:https://www.migrant.at
X-WR-CALDESC:Veranstaltungen für Migrant.at
REFRESH-INTERVAL;VALUE=DURATION:PT1H
X-Robots-Tag:noindex
X-PUBLISHED-TTL:PT1H
BEGIN:VTIMEZONE
TZID:Europe/Berlin
BEGIN:DAYLIGHT
TZOFFSETFROM:+0100
TZOFFSETTO:+0200
TZNAME:CEST
DTSTART:20230326T010000
END:DAYLIGHT
BEGIN:STANDARD
TZOFFSETFROM:+0200
TZOFFSETTO:+0100
TZNAME:CET
DTSTART:20231029T010000
END:STANDARD
BEGIN:DAYLIGHT
TZOFFSETFROM:+0100
TZOFFSETTO:+0200
TZNAME:CEST
DTSTART:20240331T010000
END:DAYLIGHT
BEGIN:STANDARD
TZOFFSETFROM:+0200
TZOFFSETTO:+0100
TZNAME:CET
DTSTART:20241027T010000
END:STANDARD
BEGIN:DAYLIGHT
TZOFFSETFROM:+0100
TZOFFSETTO:+0200
TZNAME:CEST
DTSTART:20250330T010000
END:DAYLIGHT
BEGIN:STANDARD
TZOFFSETFROM:+0200
TZOFFSETTO:+0100
TZNAME:CET
DTSTART:20251026T010000
END:STANDARD
END:VTIMEZONE
BEGIN:VEVENT
DTSTART;TZID=Europe/Berlin:20240418T093000
DTEND;TZID=Europe/Berlin:20240418T123000
DTSTAMP:20260421T144852
CREATED:20240322T152209Z
LAST-MODIFIED:20240322T152209Z
UID:4855-1713432600-1713443400@www.migrant.at
SUMMARY:Wien.Vielfalt.Wissen. - Familienzusammenführung
DESCRIPTION:Unter welchen Voraussetzungen dürfen sich Familienangehörige von Drittstaatsangehörigen (Personen\, die weder EWR-Bürger*innen noch Schweizer*innen sind) länger als 6 Monate in Österreich aufhalten und arbeiten? In diesem Vortrag erfahren Sie mehr über die entsprechenden fremdenrechtlichen Regelungen. Aus aktuellem Anlass werden Fallbeispiele aus Afghanistan behandelt. \n\nVortragende: Beratungszentrum für Migranten und Migrantinnen\nTermin: 18. April 2024 von 09.30 bis 12.30 Uhr\nOrt: 15.\, Gasgasse 8-10\, Stiege 1\, 1. Stock links\, Amtshaus Rudolfsheim-Fünfhaus\, Seminarraum der Abteilung Integration und Diversität
URL:https://www.migrant.at/veranstaltung/wien-vielfalt-wissen-familienzusammenfuehrung/
LOCATION:Amtshaus Rudolfsheim-Fünfhaus\, Gasgasse 8-10\, Wien\, 1150\, Österreich
ORGANIZER;CN="MA 17":MAILTO:anmeldungen@ma17.wien.gv.at
END:VEVENT
BEGIN:VEVENT
DTSTART;TZID=Europe/Berlin:20240423T093000
DTEND;TZID=Europe/Berlin:20240423T123000
DTSTAMP:20260421T144852
CREATED:20240116T083847Z
LAST-MODIFIED:20240116T085507Z
UID:4556-1713864600-1713875400@www.migrant.at
SUMMARY:Migration. Frau. Familiäre Gewalt – eine Suche
DESCRIPTION:Migration ist weiblich. Kaum eine Bevölkerungsgruppe ist mit mehr Problemen konfrontiert als Frauen mit Migrationshintergrund. Das ist vor allem bei familiären Problemen und Gewalt in der Familie der Fall. Strikte Bestimmungen im Aufenthaltsrecht\, fehlende Bildungs- und Erwerbschancen und wirtschaftliche Ungleichheit sind große Hindernisse für Frauen mit Migrationshintergrund. Dadurch können sie sich nur schwer aus Gewaltbeziehungen lösen. In diesem Vortrag werden die Bereiche Aufenthalt\, Arbeitsmarkt und Vereinbarkeit von Familie und Beruf besprochen und analysiert. Dieses Wissen soll Wege aufzeigen\, sich aus Abhängigkeiten zu befreien und die Gewalt zu stoppen. Denn: Migrantinnen dürfen nicht in die Isolation abgleiten. \nVortragende: Angela Ivezic (Beratungszentrum für Migranten und Migrantinnen) \nTermin: 23. April 2024 von 9.30 bis 12.30 Uhr \nOrt: 15.\, Gasgasse 8-10\, Stiege 1\, 1. Stock links\, Amtshaus Rudolfsheim-Fünfhaus\, Seminarraum der Abteilung Integration und Diversität \n  \nAuszug aus Original – Stadt Wien\, 16. Jänner 2024
URL:https://www.migrant.at/veranstaltung/migration-frau-familiaere-gewalt-eine-suche-3/
LOCATION:Vortragsreihe Wien.Vielfalt.Wissen – Termine\, Anmeldung\, 1150\, Gasgasse 8-10\, Amtshaus\, Stiege 1\, 1. Stock\, links\, Seminarraum der Abteilung Integration und Diversität (MA 17)\, Wien\, 1150
ATTACH;FMTTYPE=image/png:https://www.migrant.at/wp-content/uploads/Gasgasse-8-10.png
END:VEVENT
END:VCALENDAR