BEGIN:VCALENDAR
VERSION:2.0
PRODID:-//Migrant.at - ECPv6.15.18//NONSGML v1.0//EN
CALSCALE:GREGORIAN
METHOD:PUBLISH
X-WR-CALNAME:Migrant.at
X-ORIGINAL-URL:https://www.migrant.at
X-WR-CALDESC:Veranstaltungen für Migrant.at
REFRESH-INTERVAL;VALUE=DURATION:PT1H
X-Robots-Tag:noindex
X-PUBLISHED-TTL:PT1H
BEGIN:VTIMEZONE
TZID:Europe/Berlin
BEGIN:DAYLIGHT
TZOFFSETFROM:+0100
TZOFFSETTO:+0200
TZNAME:CEST
DTSTART:20220327T010000
END:DAYLIGHT
BEGIN:STANDARD
TZOFFSETFROM:+0200
TZOFFSETTO:+0100
TZNAME:CET
DTSTART:20221030T010000
END:STANDARD
BEGIN:DAYLIGHT
TZOFFSETFROM:+0100
TZOFFSETTO:+0200
TZNAME:CEST
DTSTART:20230326T010000
END:DAYLIGHT
BEGIN:STANDARD
TZOFFSETFROM:+0200
TZOFFSETTO:+0100
TZNAME:CET
DTSTART:20231029T010000
END:STANDARD
BEGIN:DAYLIGHT
TZOFFSETFROM:+0100
TZOFFSETTO:+0200
TZNAME:CEST
DTSTART:20240331T010000
END:DAYLIGHT
BEGIN:STANDARD
TZOFFSETFROM:+0200
TZOFFSETTO:+0100
TZNAME:CET
DTSTART:20241027T010000
END:STANDARD
END:VTIMEZONE
BEGIN:VEVENT
DTSTART;VALUE=DATE:20231010
DTEND;VALUE=DATE:20231011
DTSTAMP:20260421T184615
CREATED:20231010T124422Z
LAST-MODIFIED:20240925T103937Z
UID:3212-1696896000-1696982399@www.migrant.at
SUMMARY:Mediengespräch und Rundgang Jobmesse PERSPEKTIVE 2023
DESCRIPTION:Angebote für Arbeitsuchende fördern? Gerade jetzt unverzichtbar! Soziale Unternehmen sichern Arbeitskräfte für die Zukunft\nWien (OTS) – Ihre Gesprächspartner*innen: \n\nWinfried Göschl\, Geschäftsführer AMS Wien\nYvonne Rychly\, Landtagsabgeordnete und stv. Vorstandsvorsitzende des waff\nSwantje Meyer-Lange\, Vorsitzende arbeit plus Wien\n\nTermin: Dienstag\, 10. Oktober 2023\, 09.00 Uhr MAK\, Eingang Weiskirchnerstraße 3\, 1010 Wien \nIm Anschluss an das Mediengespräch gemeinsamer Besuch der Messestände und Möglichkeit zu individuellen Interviews. Auf der Messe können (langzeit-)beschäftigungslose Menschen die Wiener Sozialen Unternehmen kennenlernen und sich direkt bewerben. Veranstalter der Jobmesse ist arbeit plus Wien in Kooperation mit AMS Wien und waff. \narbeit plus. Dachverband – Soziale Unternehmen Wien\nDer Dachverband vertritt seit 2001 Wiener Organisationen\, die langzeitbeschäftigungslose Menschen beraten\, qualifizieren und beschäftigen. Die Interessenvertretung repräsentiert knapp 60 Betriebe und Beratungseinrichtungen\, hinter denen 30 Trägerorganisationen stehen. \nRückfragen & Kontakt:\nMag.a Eva Schober\, Öffentlichkeitsarbeit & PR\nTaborstraße 24/18\, 1020 Wien; www.arbeitplus-wien.at\nTel. 01-720 38 80-15; 0664 811 92 02;\nMail: e.schober@arbeitplus-wien.at \nOTS-ORIGINALTEXT PRESSEAUSSENDUNG UNTER AUSSCHLIESSLICHER INHALTLICHER VERANTWORTUNG DES AUSSENDERS
URL:https://www.migrant.at/veranstaltung/reminder-mediengespraech-und-rundgang-jobmesse-perspektive-2023/
LOCATION:MAK\, Weiskirchnerstraße 3\, MAK\, Eingang\, Wien\, 1010\, Österreich
END:VEVENT
BEGIN:VEVENT
DTSTART;TZID=Europe/Berlin:20231025T093000
DTEND;TZID=Europe/Berlin:20231025T093000
DTSTAMP:20260421T184615
CREATED:20230816T142103Z
LAST-MODIFIED:20230925T132416Z
UID:3173-1698226200-1698226200@www.migrant.at
SUMMARY:Migration. Frau. Familiäre Gewalt – eine Suche
DESCRIPTION:Migration ist weiblich. Kaum eine Bevölkerungsgruppe ist mit mehr Problemen konfrontiert als Frauen mit Migrationsbiographie – besonders\, wenn es familiäre Probleme und Gewalt in der Familie gibt. Sich aus Gewaltbeziehungen zu lösen ist schwierig\, da die strikten Bestimmungen im Aufenthaltsrecht\, fehlende Bildungs- und Erwerbschancen sowie ökonomische Ungleichheit zentrale Hindernisse für Frauen mit Migrationshintergrund sind. Gemeinsam werden in diesem Modul die Bereiche Aufenthalt\, Arbeitsmarkt und Vereinbarkeit von Familie und Beruf besprochen und analysiert. Dieses Wissen soll Wege aufzeigen\, sich aus Abhängigkeiten zu befreien und die Gewalt zu stoppen. Denn: Migrantinnen dürfen nicht in die Isolation abgleiten. \nVortragende: Angela Ivezic (Beratungszentrum für Migranten und Migrantinnen) \nTermin: 25. Oktober 2023 von 9.30 bis 12.30 Uhr\nOrt: 15.\, Gasgasse 8-10\, Stiege 1\, 1. Stock links\, Amtshaus Rudolfsheim-Fünfhaus\, Seminarraum der Abteilung Integration und Diversität \n  \nAuszug aus Original – Stadt Wien\, 16. August 2023 \n 
URL:https://www.migrant.at/veranstaltung/migration-frau-familiaere-gewalt-eine-suche-2/
LOCATION:Vortragsreihe Wien.Vielfalt.Wissen – Termine\, Anmeldung\, 1150\, Gasgasse 8-10\, Amtshaus\, Stiege 1\, 1. Stock\, links\, Seminarraum der Abteilung Integration und Diversität (MA 17)\, Wien\, 1150
ATTACH;FMTTYPE=image/png:https://www.migrant.at/wp-content/uploads/Gasgasse-8-10.png
END:VEVENT
END:VCALENDAR