BEGIN:VCALENDAR
VERSION:2.0
PRODID:-//Migrant.at - ECPv6.15.18//NONSGML v1.0//EN
CALSCALE:GREGORIAN
METHOD:PUBLISH
X-WR-CALNAME:Migrant.at
X-ORIGINAL-URL:https://www.migrant.at
X-WR-CALDESC:Veranstaltungen für Migrant.at
REFRESH-INTERVAL;VALUE=DURATION:PT1H
X-Robots-Tag:noindex
X-PUBLISHED-TTL:PT1H
BEGIN:VTIMEZONE
TZID:Europe/Berlin
BEGIN:DAYLIGHT
TZOFFSETFROM:+0100
TZOFFSETTO:+0200
TZNAME:CEST
DTSTART:20220327T010000
END:DAYLIGHT
BEGIN:STANDARD
TZOFFSETFROM:+0200
TZOFFSETTO:+0100
TZNAME:CET
DTSTART:20221030T010000
END:STANDARD
BEGIN:DAYLIGHT
TZOFFSETFROM:+0100
TZOFFSETTO:+0200
TZNAME:CEST
DTSTART:20230326T010000
END:DAYLIGHT
BEGIN:STANDARD
TZOFFSETFROM:+0200
TZOFFSETTO:+0100
TZNAME:CET
DTSTART:20231029T010000
END:STANDARD
BEGIN:DAYLIGHT
TZOFFSETFROM:+0100
TZOFFSETTO:+0200
TZNAME:CEST
DTSTART:20240331T010000
END:DAYLIGHT
BEGIN:STANDARD
TZOFFSETFROM:+0200
TZOFFSETTO:+0100
TZNAME:CET
DTSTART:20241027T010000
END:STANDARD
END:VTIMEZONE
BEGIN:VEVENT
DTSTART;TZID=Europe/Berlin:20230927T093000
DTEND;TZID=Europe/Berlin:20230927T123000
DTSTAMP:20260421T171149
CREATED:20230925T131329Z
LAST-MODIFIED:20230925T132448Z
UID:3196-1695807000-1695817800@www.migrant.at
SUMMARY:Afghanische Community in Wien
DESCRIPTION:Der Großteil der heute in Österreich ansässigen Afghan*innen ist erst infolge der Fluchtmigration der letzten Jahre nach Österreich gekommen. In diesem Vortrag wird zunächst ein kurzer Überblick über die Entwicklung der afghanischen Fluchtmigration gegeben. Anschließend werden verschiedene Aspekte der afghanischen Communityin Wien näher betrachtet\, wie beispielsweise die soziokulturelle Differenzierung der afghanischen Zuwander*innen\, die Existenz von Vereinen und die regionale Verteilung innerhalb der Stadt. \nVortragende: Maryam Singh und Nabila Naseri Nayebkehl (Beratungszentrum für Migranten und Migrantinnen) \nTermin: 27. September 2023 von 9.30 bis 12.30 Uhr\nOrt: 15.\, Gasgasse 8-10\, Stiege 1\, 1. Stock links\, Amtshaus Rudolfsheim-Fünfhaus\, Seminarraum der Abteilung Integration und Diversität \nAuszug aus Original – Stadt Wien\, 25. September 2023
URL:https://www.migrant.at/veranstaltung/afghanische-community-in-wien/
LOCATION:Vortragsreihe Wien.Vielfalt.Wissen – Termine\, Anmeldung\, 1150\, Gasgasse 8-10\, Amtshaus\, Stiege 1\, 1. Stock\, links\, Seminarraum der Abteilung Integration und Diversität (MA 17)\, Wien\, 1150
ATTACH;FMTTYPE=image/png:https://www.migrant.at/wp-content/uploads/Gasgasse-8-10.png
END:VEVENT
END:VCALENDAR