BEGIN:VCALENDAR
VERSION:2.0
PRODID:-//Migrant.at - ECPv6.15.18//NONSGML v1.0//EN
CALSCALE:GREGORIAN
METHOD:PUBLISH
X-ORIGINAL-URL:https://www.migrant.at
X-WR-CALDESC:Veranstaltungen für Migrant.at
REFRESH-INTERVAL;VALUE=DURATION:PT1H
X-Robots-Tag:noindex
X-PUBLISHED-TTL:PT1H
BEGIN:VTIMEZONE
TZID:Europe/Berlin
BEGIN:DAYLIGHT
TZOFFSETFROM:+0100
TZOFFSETTO:+0200
TZNAME:CEST
DTSTART:20220327T010000
END:DAYLIGHT
BEGIN:STANDARD
TZOFFSETFROM:+0200
TZOFFSETTO:+0100
TZNAME:CET
DTSTART:20221030T010000
END:STANDARD
BEGIN:DAYLIGHT
TZOFFSETFROM:+0100
TZOFFSETTO:+0200
TZNAME:CEST
DTSTART:20230326T010000
END:DAYLIGHT
BEGIN:STANDARD
TZOFFSETFROM:+0200
TZOFFSETTO:+0100
TZNAME:CET
DTSTART:20231029T010000
END:STANDARD
BEGIN:DAYLIGHT
TZOFFSETFROM:+0100
TZOFFSETTO:+0200
TZNAME:CEST
DTSTART:20240331T010000
END:DAYLIGHT
BEGIN:STANDARD
TZOFFSETFROM:+0200
TZOFFSETTO:+0100
TZNAME:CET
DTSTART:20241027T010000
END:STANDARD
END:VTIMEZONE
BEGIN:VEVENT
DTSTART;TZID=Europe/Berlin:20230606T093000
DTEND;TZID=Europe/Berlin:20230606T123000
DTSTAMP:20260421T140342
CREATED:20230207T141120Z
LAST-MODIFIED:20230816T140151Z
UID:2695-1686043800-1686054600@www.migrant.at
SUMMARY:Migration.Frau.Familiäre Gewalt. Eine Suche
DESCRIPTION:Migration ist weiblich. Kaum eine Bevölkerungsgruppe ist mit mehr Problemen konfrontiert als Frauen mit Migrationshintergrund. Besonders\, wenn es familiäre Probleme und Gewalt in der Familie gibt. Die strikten Bestimmungen im Aufenthaltsrecht\, fehlende Bildungs- und Erwerbschancen\, sowie ökonomische Ungleichheit sind zentrale Hindernisse für Frauen mit Migrationshintergrund\, sich aus Gewaltbeziehungen zu lösen. Gemeinsam werden in diesem Modul die Bereiche Aufenthalt\, Arbeitsmarkt und Vereinbarkeit von Familie und Beruf besprochen und analysiert. Dieses Wissen soll Wege aufzeigen\, sich aus Abhängigkeiten zu befreien und die Gewalt zu stoppen. Denn: Migrantinnen dürfen nicht in die Isolation abgleiten. \nReferentin: Angela Ivezic (Beratungszentrum für Migranten und Migrantinnen)
URL:https://www.migrant.at/veranstaltung/migration-frau-familiaere-gewalt-eine-suche/
LOCATION:Vortragsreihe Wien.Vielfalt.Wissen – Termine\, Anmeldung\, 1150\, Gasgasse 8-10\, Amtshaus\, Stiege 1\, 1. Stock\, links\, Seminarraum der Abteilung Integration und Diversität (MA 17)\, Wien\, 1150
ATTACH;FMTTYPE=image/png:https://www.migrant.at/wp-content/uploads/Gasgasse-8-10.png
END:VEVENT
BEGIN:VEVENT
DTSTART;TZID=Europe/Berlin:20230619T190000
DTEND;TZID=Europe/Berlin:20230619T190000
DTSTAMP:20260421T140342
CREATED:20230605T105153Z
LAST-MODIFIED:20230830T150533Z
UID:3102-1687201200-1687201200@www.migrant.at
SUMMARY:Buchpräsentation Migration & Arbeit
DESCRIPTION:Buchpräsentation Migration & Arbeit mit\nGudrun Biffl\, Arbeitsökonomin und Expertin für Migration\nPeter Huber\, Regionalökonom am Wirtschaftsforschungsinstitut (WIFO)\, Wien \nDiskutantInnen:\nPetra Draxl\, AMS Wien\nAngela Ivezic\, Beratungszentrum für Migrantinnen und Migranten \nModeration: Wiebke Sievers\, Institut für Stadt- und Regionalforschung und Kommission für Migrations- und Integrationsforschung\, Österreichische Akademie der Wissenschaften\, Wien \n19. Juni 2023\, 19 Uhr\nHauptbücherei am Gürtel\nUrban Loritz-Platz 2a\n1070 Wien \nAnkündigung und Anmeldung \n  \nAuszug aus Original-Buchpräsentation
URL:https://www.migrant.at/veranstaltung/buchpraesentation-migration-arbeit/
LOCATION:Buchpräsentation\, Urban Loritz-Platz 2a\, 1070\, Hauptbücherei am Gürtel\, Wien\, 1070
ATTACH;FMTTYPE=image/png:https://www.migrant.at/wp-content/uploads/Bibliothek.png
END:VEVENT
END:VCALENDAR