BEGIN:VCALENDAR
VERSION:2.0
PRODID:-//Migrant.at - ECPv6.15.18//NONSGML v1.0//EN
CALSCALE:GREGORIAN
METHOD:PUBLISH
X-WR-CALNAME:Migrant.at
X-ORIGINAL-URL:https://www.migrant.at
X-WR-CALDESC:Veranstaltungen für Migrant.at
REFRESH-INTERVAL;VALUE=DURATION:PT1H
X-Robots-Tag:noindex
X-PUBLISHED-TTL:PT1H
BEGIN:VTIMEZONE
TZID:Europe/Berlin
BEGIN:DAYLIGHT
TZOFFSETFROM:+0100
TZOFFSETTO:+0200
TZNAME:CEST
DTSTART:20220327T010000
END:DAYLIGHT
BEGIN:STANDARD
TZOFFSETFROM:+0200
TZOFFSETTO:+0100
TZNAME:CET
DTSTART:20221030T010000
END:STANDARD
BEGIN:DAYLIGHT
TZOFFSETFROM:+0100
TZOFFSETTO:+0200
TZNAME:CEST
DTSTART:20230326T010000
END:DAYLIGHT
BEGIN:STANDARD
TZOFFSETFROM:+0200
TZOFFSETTO:+0100
TZNAME:CET
DTSTART:20231029T010000
END:STANDARD
BEGIN:DAYLIGHT
TZOFFSETFROM:+0100
TZOFFSETTO:+0200
TZNAME:CEST
DTSTART:20240331T010000
END:DAYLIGHT
BEGIN:STANDARD
TZOFFSETFROM:+0200
TZOFFSETTO:+0100
TZNAME:CET
DTSTART:20241027T010000
END:STANDARD
END:VTIMEZONE
BEGIN:VEVENT
DTSTART;TZID=Europe/Berlin:20230308T150000
DTEND;TZID=Europe/Berlin:20230308T193000
DTSTAMP:20260421T143500
CREATED:20230308T091301Z
LAST-MODIFIED:20230925T132528Z
UID:2789-1678287600-1678303800@www.migrant.at
SUMMARY:Internationaler Frauentag Rathaus
DESCRIPTION:Internationaler Frauentag\nOffenes Rathaus für alle Mädchen und Frauen\nINFORMATIONSINSELN VON 15 BIS 19:30 UHR\n• Mädchen und Jugend\n• Lebensphasen\n• Mein Neues Leben Wien\n• Frauenpolitik und Frauengeschichte\n• Gewaltschutz \nTHEMENTAG FRAUENZENTRUM VON 9 BIS 17 UHR\n• „Frauen und Geld“ – Beratung zur Existenzsicherung\n• Telefonische Beratung unter der Nummer: 01-4087066 \nWORKSHOPS\n• WAFF: „Digital dabei: Arbeiten\, Lernen und Kommunizieren im Netz“\n• Selbstverteidigung\n• Kinderfreunde „Konsens\, Grenzen & Zivilcourage“ \nuvm. \nAlle Infos zum Internationaler Frauentag Rathaus 2023
URL:https://www.migrant.at/veranstaltung/internationaler-frauentag-rathaus/
LOCATION:Wiener Rathaus\, Lichtenfelsgasse 2\, Wien\, 1010
CATEGORIES:Veranstaltungen
ATTACH;FMTTYPE=image/png:https://www.migrant.at/wp-content/uploads/Rathaus.png
END:VEVENT
BEGIN:VEVENT
DTSTART;TZID=Europe/Berlin:20230321T170000
DTEND;TZID=Europe/Berlin:20230321T193000
DTSTAMP:20260421T143500
CREATED:20230207T132040Z
LAST-MODIFIED:20230816T140235Z
UID:2676-1679418000-1679427000@www.migrant.at
SUMMARY:Anerkennung von im Ausland erworbenen Qualifikationen - Input und Austausch
DESCRIPTION:Freiwillige begleiten Geflüchtete und Vertriebene auch in Angelegenheiten der Anerkennung von im Ausland erworbenen schulischen und beruflichen Abschlüssen. Hier können sie einen Überblick und allgemeine Informationen über die Prozesse der Anerkennung (Nostrifikation) erhalten. Im Anschlussteil gibt es die Möglichkeit des Austausches und des Behandelns konkreter Fälle. \nReferent*innen: Azra Mehanic und Darjusch Rezazadeh-Ardebili (Anlaufstelle für Personen mit im Ausland erworbener Qualifikationen Wien)
URL:https://www.migrant.at/veranstaltung/anerkennung-von-im-ausland-erworbenen-qualifikationen-input-und-austausch/
LOCATION:Vortragsreihe Wien.Vielfalt.Wissen – Termine\, Anmeldung\, 1150\, Gasgasse 8-10\, Amtshaus\, Stiege 1\, 1. Stock\, links\, Seminarraum der Abteilung Integration und Diversität (MA 17)\, Wien\, 1150
ATTACH;FMTTYPE=image/png:https://www.migrant.at/wp-content/uploads/Gasgasse-8-10.png
ORGANIZER;CN="MA 17":MAILTO:anmeldungen@ma17.wien.gv.at
END:VEVENT
END:VCALENDAR