BEGIN:VCALENDAR
VERSION:2.0
PRODID:-//Migrant.at - ECPv6.15.18//NONSGML v1.0//EN
CALSCALE:GREGORIAN
METHOD:PUBLISH
X-ORIGINAL-URL:https://www.migrant.at
X-WR-CALDESC:Veranstaltungen für Migrant.at
REFRESH-INTERVAL;VALUE=DURATION:PT1H
X-Robots-Tag:noindex
X-PUBLISHED-TTL:PT1H
BEGIN:VTIMEZONE
TZID:Europe/Berlin
BEGIN:DAYLIGHT
TZOFFSETFROM:+0100
TZOFFSETTO:+0200
TZNAME:CEST
DTSTART:20230326T010000
END:DAYLIGHT
BEGIN:STANDARD
TZOFFSETFROM:+0200
TZOFFSETTO:+0100
TZNAME:CET
DTSTART:20231029T010000
END:STANDARD
BEGIN:DAYLIGHT
TZOFFSETFROM:+0100
TZOFFSETTO:+0200
TZNAME:CEST
DTSTART:20240331T010000
END:DAYLIGHT
BEGIN:STANDARD
TZOFFSETFROM:+0200
TZOFFSETTO:+0100
TZNAME:CET
DTSTART:20241027T010000
END:STANDARD
BEGIN:DAYLIGHT
TZOFFSETFROM:+0100
TZOFFSETTO:+0200
TZNAME:CEST
DTSTART:20250330T010000
END:DAYLIGHT
BEGIN:STANDARD
TZOFFSETFROM:+0200
TZOFFSETTO:+0100
TZNAME:CET
DTSTART:20251026T010000
END:STANDARD
END:VTIMEZONE
BEGIN:VEVENT
DTSTART;TZID=Europe/Berlin:20241024T093000
DTEND;TZID=Europe/Berlin:20241024T123000
DTSTAMP:20260422T005137
CREATED:20240814T123605Z
LAST-MODIFIED:20250923T080448Z
UID:5447-1729762200-1729773000@www.migrant.at
SUMMARY:Familienzusammenführung
DESCRIPTION:Unter welchen Voraussetzungen dürfen sich Familienangehörige von Drittstaatsangehörigen (Personen\, die weder EWR-Bürger*innen noch Schweizer*innen sind) länger als 6 Monate in Österreich aufhalten und arbeiten? In diesem Vortrag erfahren Sie mehr über die entsprechenden fremdenrechtlichen Regelungen mit Fallbeispielen. \nVortragende: Maryam Singh\, Veli Cayci (Beratungszentrum für Migranten und Migrantinnen)\nTermin: Donnerstag\, 24. Oktober 2024\, von 9.30 bis 12.30 Uhr\nOrt: 15.\, Gasgasse 8-10\, Stiege 1\, 1. Stock links\, Amtshaus Rudolfsheim-Fünfhaus\, Seminarraum der Abteilung Integration und Diversität \nAuszug aus Original – Stadt Wien\, 14. August 2024
URL:https://www.migrant.at/veranstaltung/familienzusammenfuehrung/
LOCATION:Amtshaus Rudolfsheim-Fünfhaus\, Gasgasse 8-10\, Wien\, 1150\, Österreich
CATEGORIES:Veranstaltungen
ATTACH;FMTTYPE=image/png:https://www.migrant.at/wp-content/uploads/Gasgasse-8-10.png
END:VEVENT
END:VCALENDAR