BEGIN:VCALENDAR
VERSION:2.0
PRODID:-//Migrant.at - ECPv6.15.18//NONSGML v1.0//EN
CALSCALE:GREGORIAN
METHOD:PUBLISH
X-ORIGINAL-URL:https://www.migrant.at
X-WR-CALDESC:Veranstaltungen für Migrant.at
REFRESH-INTERVAL;VALUE=DURATION:PT1H
X-Robots-Tag:noindex
X-PUBLISHED-TTL:PT1H
BEGIN:VTIMEZONE
TZID:Europe/Berlin
BEGIN:DAYLIGHT
TZOFFSETFROM:+0100
TZOFFSETTO:+0200
TZNAME:CEST
DTSTART:20230326T010000
END:DAYLIGHT
BEGIN:STANDARD
TZOFFSETFROM:+0200
TZOFFSETTO:+0100
TZNAME:CET
DTSTART:20231029T010000
END:STANDARD
BEGIN:DAYLIGHT
TZOFFSETFROM:+0100
TZOFFSETTO:+0200
TZNAME:CEST
DTSTART:20240331T010000
END:DAYLIGHT
BEGIN:STANDARD
TZOFFSETFROM:+0200
TZOFFSETTO:+0100
TZNAME:CET
DTSTART:20241027T010000
END:STANDARD
BEGIN:DAYLIGHT
TZOFFSETFROM:+0100
TZOFFSETTO:+0200
TZNAME:CEST
DTSTART:20250330T010000
END:DAYLIGHT
BEGIN:STANDARD
TZOFFSETFROM:+0200
TZOFFSETTO:+0100
TZNAME:CET
DTSTART:20251026T010000
END:STANDARD
END:VTIMEZONE
BEGIN:VEVENT
DTSTART;TZID=Europe/Berlin:20240522T150000
DTEND;TZID=Europe/Berlin:20240522T170000
DTSTAMP:20260421T145902
CREATED:20240515T110141Z
LAST-MODIFIED:20240516T071629Z
UID:5122-1716390000-1716397200@www.migrant.at
SUMMARY:Orientierungshilfe & Einführung für Neuankömmlinge in Österreich - kurdisch
DESCRIPTION:Welche Rechte und Pflichten habe ich und welche rechtlichen Aspekte muss ich beachten\, um in Österreich gut anzukommen? \nTermin:\n22. Mai 2024 von 15:00 Uhr bis 17:00 Uhr \nAdresse:\nHoher Markt 8/ 4/ 2\n1010 Wien \nOrganisiert von:\nBeratungszentrum für Migranten und Migrantinnen \n  \nDer Infoabend wird in kurdischer Sprache abgehalten.\nAnmeldung ist unbedingt notwendig unter migrant@migrant.at \n\n© ALPHA plus
URL:https://www.migrant.at/veranstaltung/orientierungshilfe-einfuehrung-fuer-neuankoemmlinge-in-oesterreich-kurdisch/
LOCATION:Beratungszentrum für Migranten und Migrantinnen\, Hoher Markt 8/ Stiege 4/ 2. Stock\, 1010 Wien\, Österreich
ATTACH;FMTTYPE=image/jpeg:https://www.migrant.at/wp-content/uploads/Freepik-e1715841324443.jpg
END:VEVENT
END:VCALENDAR