BEGIN:VCALENDAR
VERSION:2.0
PRODID:-//Migrant.at - ECPv6.15.18//NONSGML v1.0//EN
CALSCALE:GREGORIAN
METHOD:PUBLISH
X-ORIGINAL-URL:https://www.migrant.at
X-WR-CALDESC:Veranstaltungen für Migrant.at
REFRESH-INTERVAL;VALUE=DURATION:PT1H
X-Robots-Tag:noindex
X-PUBLISHED-TTL:PT1H
BEGIN:VTIMEZONE
TZID:Europe/Berlin
BEGIN:DAYLIGHT
TZOFFSETFROM:+0100
TZOFFSETTO:+0200
TZNAME:CEST
DTSTART:20220327T010000
END:DAYLIGHT
BEGIN:STANDARD
TZOFFSETFROM:+0200
TZOFFSETTO:+0100
TZNAME:CET
DTSTART:20221030T010000
END:STANDARD
BEGIN:DAYLIGHT
TZOFFSETFROM:+0100
TZOFFSETTO:+0200
TZNAME:CEST
DTSTART:20230326T010000
END:DAYLIGHT
BEGIN:STANDARD
TZOFFSETFROM:+0200
TZOFFSETTO:+0100
TZNAME:CET
DTSTART:20231029T010000
END:STANDARD
BEGIN:DAYLIGHT
TZOFFSETFROM:+0100
TZOFFSETTO:+0200
TZNAME:CEST
DTSTART:20240331T010000
END:DAYLIGHT
BEGIN:STANDARD
TZOFFSETFROM:+0200
TZOFFSETTO:+0100
TZNAME:CET
DTSTART:20241027T010000
END:STANDARD
END:VTIMEZONE
BEGIN:VEVENT
DTSTART;TZID=Europe/Berlin:20231122T093000
DTEND;TZID=Europe/Berlin:20231122T123000
DTSTAMP:20260421T222930
CREATED:20230925T131744Z
LAST-MODIFIED:20230925T132307Z
UID:3199-1700645400-1700656200@www.migrant.at
SUMMARY:Staatsbürgerschaftsrecht
DESCRIPTION:Österreich stellt mitunter die strengsten Anforderungen für die Vergabe der eigenen Staatsbürgerschaft. Obwohl der Antrag relativ verständlich ist\, gibt es viele einzelne Aspekte\, die dabei beachtet werden müssen. In diesem Vortrag geben wir einen allgemeinen Überblick über die Voraussetzungen zum Erwerb der österreichischen Staatsbürgerschaft. \nVortragende: Maryam Singh und Rafat Abu-Talib (Beratungszentrum für Migranten und Migrantinnen) \nTermin: 22. November 2023 von 9.30 bis 12.30 Uhr\nOrt: 15.\, Gasgasse 8-10\, Stiege 1\, 1. Stock links\, Amtshaus Rudolfsheim-Fünfhaus\, Seminarraum der Abteilung Integration und Diversität \nAuszug aus Original – Stadt Wien\, 25. September 2023
URL:https://www.migrant.at/veranstaltung/staatsbuergerschaftsrecht/
LOCATION:Vortragsreihe Wien.Vielfalt.Wissen – Termine\, Anmeldung\, 1150\, Gasgasse 8-10\, Amtshaus\, Stiege 1\, 1. Stock\, links\, Seminarraum der Abteilung Integration und Diversität (MA 17)\, Wien\, 1150
ATTACH;FMTTYPE=image/png:https://www.migrant.at/wp-content/uploads/Gasgasse-8-10.png
END:VEVENT
END:VCALENDAR