BEGIN:VCALENDAR
VERSION:2.0
PRODID:-//Migrant.at - ECPv6.15.18//NONSGML v1.0//EN
CALSCALE:GREGORIAN
METHOD:PUBLISH
X-WR-CALNAME:Migrant.at
X-ORIGINAL-URL:https://www.migrant.at
X-WR-CALDESC:Veranstaltungen für Migrant.at
REFRESH-INTERVAL;VALUE=DURATION:PT1H
X-Robots-Tag:noindex
X-PUBLISHED-TTL:PT1H
BEGIN:VTIMEZONE
TZID:Europe/Berlin
BEGIN:DAYLIGHT
TZOFFSETFROM:+0100
TZOFFSETTO:+0200
TZNAME:CEST
DTSTART:20220327T010000
END:DAYLIGHT
BEGIN:STANDARD
TZOFFSETFROM:+0200
TZOFFSETTO:+0100
TZNAME:CET
DTSTART:20221030T010000
END:STANDARD
BEGIN:DAYLIGHT
TZOFFSETFROM:+0100
TZOFFSETTO:+0200
TZNAME:CEST
DTSTART:20230326T010000
END:DAYLIGHT
BEGIN:STANDARD
TZOFFSETFROM:+0200
TZOFFSETTO:+0100
TZNAME:CET
DTSTART:20231029T010000
END:STANDARD
BEGIN:DAYLIGHT
TZOFFSETFROM:+0100
TZOFFSETTO:+0200
TZNAME:CEST
DTSTART:20240331T010000
END:DAYLIGHT
BEGIN:STANDARD
TZOFFSETFROM:+0200
TZOFFSETTO:+0100
TZNAME:CET
DTSTART:20241027T010000
END:STANDARD
END:VTIMEZONE
BEGIN:VEVENT
DTSTART;TZID=Europe/Berlin:20231120T090000
DTEND;TZID=Europe/Berlin:20231120T140000
DTSTAMP:20260422T004356
CREATED:20231113T125343Z
LAST-MODIFIED:20231113T132725Z
UID:4449-1700470800-1700488800@www.migrant.at
SUMMARY:Wien.Stärken - Schutz vor Partnergewalt
DESCRIPTION:Ziel der Informationsveranstaltung ist die Sensibilisierung zum Thema Gewalt in der Partnerschaft\, Erfahrungsaustausch sowie Diskussion über Präventions- und Schutzmaßnahmen.\nZielgruppe: Menschen\, die in ihrem Alltags- und/oder Berufsleben mit Personen in Kontakt sind\, die von Gewalt in der Partnerschaft betroffen sind. \nProgramm: \n\nPodiumsdiskussion I: Partnergewalt! Was mache ich jetzt? (Richtig) Handeln in einer Notsituation\nPodiumsdiskussion II: Wir gegen Partnergewalt! Prävention\, Sensibilisierungs- und Kommunikationsstrategien in der Zivilgesellschaft\n\nDiskussion mit: \nVertreter*innen folgender Institutionen/Vereine: Frauenservice Wien\, Wiener Interventionsstelle gegen Gewalt in der Familie\, Abteilung Kinder- und Jugendhilfe (MA 11)\, Peregrina – Bildungs-\, Beratungs- und Therapiezentrum für Immigrantinnen\,\nStoP – Stadtteile ohne Partnergewalt\, Männerberatung Wien\, Diakonie Frauenberatung Wien\, Schwarze Frauen Community\, Beratungszentrum für Migranten und Migrantinnen und Aktivist*innen aus der Zivilgesellschaft \nTermin: Montag\, 20. November 2023\, von 9 bis 14 Uhr \nOrt: 10.\, Keplerplatz 5\, Amtshaus Favoriten\, Festsaal \nAnmeldung: per E-Mail an anmeldungen@ma17.wien.gv.at \nDie Teilnahme ist kostenlos
URL:https://www.migrant.at/veranstaltung/wien-staerken-schutz-vor-partnergewalt/
LOCATION:Amtshaus Favoriten\, Keplerplatz 5\, Amtshaus Favoriten\, Festsaal\, Wien\, 1100\, Österreich
END:VEVENT
END:VCALENDAR